BEGIN:VCALENDAR
VERSION:2.0
PRODID:-//Kalender//
BEGIN:VEVENT
SUMMARY:War Jesus evangelisch oder katholisch?
DTSTART:20191113T093000Z
DTEND:20191113T150000Z
DTSTAMP:20260422T095138Z
UID:event_ical_eventmanagement_429
DESCRIPTION:An den Schulen im Land Sachsen-Anhalt findet Religionsunterric
 ht konfessionell getrennt oder oft für eine der beiden Konfessionen gar n
 icht statt. In dieser Fortbildungsveranstaltung sollen Modelle des Religio
 nsunterrichts überlegt werden\, die eine konfessionelle Kooperation ermö
 glichen: Wie können Gemeinsamkeiten der Konfessionen gestärkt werden? Wi
 e werden wir gleichzeitig den Unterschieden gerecht? Von Vorteil ist es\, 
 wenn jeweils eine evangelische Religionslehrkraft und eine katholische Rel
 igionslehrkraft im Team teilnehmen können. Natürlich ist auch die Teilna
 hme ohne eine Partnerlehrkraft möglich. Auch Ethiklehrkräfte sind herzli
 ch eingeladen. Referentinnen:     Susanne Riemer-Ranscht\, Uta Flöter 
 (Religionslehrkräfte am Landesgymnasium Schulpforte) Organisation:    
    Patricia Erben-Grütz\, Cornelia Henkel\, Magdeburg  WTK-Nr. 2019-06
 4-43
LOCATION:Edith-Stein-Schulstiftung\, M.-J. Metzger-Str. 1\, 39104 Magdebur
 g\, Deutschland
END:VEVENT
END:VCALENDAR
