BEGIN:VCALENDAR
VERSION:2.0
PRODID:-//Kalender//
BEGIN:VEVENT
SUMMARY:Warum ist die Welt nicht so wie sie sein soll?
DTSTART:20191129T160000Z
DTEND:20191130T160000Z
DTSTAMP:20260422T094315Z
UID:event_ical_eventmanagement_430
DESCRIPTION:Es ist ein uralter Streit: Wenn es Übel in der Welt gibt (was
  wohl fraglos Fakt ist)\, kann es keinen zugleich allmächtigen und gütig
 en Gott geben. Insofern ist das Leid der „Fels des Atheismus“ – oder
  doch nicht? Auf jeden Fall ist die seit Leibniz (Anfang 18. Jh.) sogenann
 te „Theodizee“-Frage eine Herausforderung für den Gottesglauben. Eini
 ge Antwortversuche in Philosophie und Theologie sollen vorgestellt und dis
 kutiert werden. Zu diskutierende Texte diverser Autoren werden im Seminar 
 zur Verfügung gestellt. Referent:            Prof. em. Dr. Eber
 hard Tiefensee\, Leipzig   Organisation:    Dr. Reinhard Grütz\, Hall
 e/S.\; Partricia Erben-Grütz\, Cornelia Henkel\, Magdeburg     WTK 20
 19-064-46
LOCATION:Roncallihaus\, Max-Josef-Metzger-Straße 12/13\, 39104 Magdeburg\
 , Deutschland
END:VEVENT
END:VCALENDAR
