BEGIN:VCALENDAR
VERSION:2.0
PRODID:-//Kalender//
BEGIN:VEVENT
SUMMARY:Die Welt als Schöpfung entdecken
DTSTART:20200226T083000Z
DTEND:20200226T140000Z
DTSTAMP:20260422T094757Z
UID:event_ical_eventmanagement_432
DESCRIPTION:Die Fortbildung widmet sich ganzheitlicher Gestaltungsmöglich
 keiten im Arbeiten mit biblischen Bildern\, Erfahrungen und Geschichten. D
 ie Methodik orientiert sich dabei an der Religionspädagogik nach Franz Ke
 tt und Esther Kaufmann und wirft u. a. theologische Fragen auf: Kann man m
 ehr sehen\, als die Augen einem zeigen? Birgt unsere Wirklichkeit ein Gehe
 imnis\, das entdeckt werden möchte. Was hilft und unterstützt\, sich in 
 dieser Betrachtungsweise einzuüben? Und wie begegnen wir dann unserer Wel
 t? Die Fortbildung vermittelt Vorschläge\, wie diese Methodik im schulisc
 hen Kontext eingesetzt werden kann und bietet Raum für das Ausprobieren 
  eigener Ideen. Referentin:     Matthias Slowik\, Magdeburg Organisati
 on: Patricia Erben-Grütz\, Cornelia Henkel\, Magdeburg  WTK-Nr. 2019-064
 -45
LOCATION:Roncallihaus\, Max-Josef-Metzger-Straße 12/13\, 39104 Magdeburg\
 , Deutschland
END:VEVENT
END:VCALENDAR
