BEGIN:VCALENDAR
VERSION:2.0
PRODID:-//Kalender//
BEGIN:VEVENT
SUMMARY:Diözesaner Religionslehrertag
DTSTART:20200307T083000Z
DTEND:20200307T140000Z
DTSTAMP:20260422T112403Z
UID:event_ical_eventmanagement_433
DESCRIPTION:Diözesaner Religionslehrertag 2020 Reli für alle!? – Didak
 tik in heterogenen Lerngruppen Der schulische Religionsunterricht in Sachs
 en-Anhalt wird zunehmend vor die herausfordernde Aufgabe gestellt\, zuglei
 ch mit Fremdheit von Religion und Neugier auf Religion umzugehen und darau
 fhin dialogische Zugänge zu gestalten. Für die Lehrkräfte bedeutet das\
 , in konfessionell oft sehr heterogenen Lerngruppen zu unterrichten und ih
 re didaktischen Fähigkeiten und Fertigkeiten für eine indifferente und v
 ielfältigere unterrichtliche Situation zu stärken. Als teilnehmende Beob
 achtung könnte dann das Angebot eines konfessionellen Religionsunterricht
 s an Schülerinnen und Schüler beschrieben werden\, der zugleich Nähe un
 d Distanz zu Inhalt und Praxen des Religiösen ermöglicht und sie in eine
 m säkularen Kontext verstehbar macht. Der religionspädagogischen Begrün
 dung einer solchen Unterrichtsgestaltung widmet sich der Impulsvortrag von
  Prof. Dr. Harald Schwillus. In den sich anschließenden Workshops werden 
 den Teilnehmer/innen aktuelle unterrichtliche Praxisversuche vorgestellt\,
  die auf ihre Übertragbarkeit in die eigene schulische und unterrichtlich
 e Wirklichkeit befragt werden können. In Pausen ist Raum für Begegnung g
 egeben. Neue Unterrichtsmedien werden durch das Medienzentrum der EKM prä
 sentiert. Bücher- und Materialtische informieren über aktuelle religions
 pädagogische Publikationen. Den Abschluss der Veranstaltung bildet ein Go
 ttesdienst mit Bischof Dr. G. Feige\, in dem Missio-canonica-Urkunden an R
 eligionslehrkräfte übergeben werden. Im Anschluss daran sind alle Teilne
 hmer/innen zu einem Zusammensein mit Bischof und Missio-canonica-Kanditat/
 innen eingeladen. Referent: Prof. Dr. Harald Schwillus\, Halle/S. Workshop
 -Leiterinnen: Frau E. Salomon\, Frau A. Tschöp\, Frau K. Czerwitzki Organ
 isation: Patricia Erben-Grütz\, Cornelia Henkel\, Magdeburg\,  WTK 2020-
 064-17
LOCATION:Roncallihaus\, Max-Josef-Metzger-Straße 12/13\, 39104 Magdeburg\
 , Deutschland
END:VEVENT
END:VCALENDAR
