BEGIN:VCALENDAR
VERSION:2.0
PRODID:-//Kalender//
BEGIN:VEVENT
SUMMARY:Philosophie-Seminar
DTSTART:20200612T160000Z
DTEND:20200614T110000Z
DTSTAMP:20260422T104101Z
UID:event_ical_eventmanagement_436
DESCRIPTION:Dostojevskijs conversio - Sinneswandel und seine literarische 
 Darstellung in "Die Brüder Karamasov" Fëdor M. Dostoevskij gehört zweif
 ellos zu einem der bedeutendsten Autoren russischer Literatur\, dessen lit
 erarisch-philosophische Werke die Epoche des Realismus und darüber hinaus
  ganz Europa geprägt haben. Die schrecklichen Erfahrungen des Autors wäh
 rend seiner Scheinhinrichtung und Inhaftierung in Sibirien prägen und ver
 ändern nachhaltig sein literarisches Schaffen ab den 1860er Jahren. Begin
 nend mit dem ersten Werk nach seiner Inhaftierung\, den Aufzeichnungen aus
  dem Totenhaus \, bis hin zu Die Brüder Karamasov erscheint daher als ein
 es der zentralen Themen des Autors die Umkehr bzw. conversio \, die Bekehr
 ung zum Glauben. Die Zirkularität von Konversionserzählungen sowie die r
 etrospektive Betrachtung der Bekehrung der Protagonisten bei Dostoevskij k
 nüpfen zudem an Augustinus Bekenntnisse als Paradigma aller Konversionser
 zählungen an.   In gemeinsamer Lektüre werden sowohl ein für den Unter
 richt anwendungsbezogener Überblick über Dostoevskijs Werke gegeben wie 
 auch eine gezielte Hinführung zum theologischen Gehalt des Großinquisito
 rs in den Brüdern Karamasov . Im Fokus soll dabei Die Brüder Karamasov m
 it seiner spannenden Erzählweise stehen\, welche die Geschichte der Famil
 ie Karamasov vom Mord bis hin zum Gerichtsprozess als einen Verfall gesell
 schaftlicher Sitten zeigt.   Referent:          Herr Dr. Sebasti
 an Kornmesser\, Dresden                          O
 rganisatoren: Dr. R. Grütz\, Kath. Akademie d. Bistums Magdeburg\,    
                       P. Erben-Grütz\, Edith-Stein-S
 chulstiftung Magdeburg
LOCATION:HVHS Konrad-Martin-Haus Bad Kösen\, Am Rechenberg 3-5\, 06628 Na
 umburg\, Deutschland
END:VEVENT
END:VCALENDAR
